Package: decontam Version: 1.31.0 Command: /home/biocbuild/bbs-3.23-bioc/R/bin/R CMD INSTALL decontam StartedAt: 2025-10-31 15:16:23 -0400 (Fri, 31 Oct 2025) EndedAt: 2025-10-31 15:16:42 -0400 (Fri, 31 Oct 2025) EllapsedTime: 19.3 seconds RetCode: 0 Status: OK