Package: decontam Version: 1.31.0 Command: /home/biocbuild/bbs-3.23-bioc/R/bin/R CMD build --keep-empty-dirs --no-resave-data decontam StartedAt: 2025-10-31 17:22:22 -0400 (Fri, 31 Oct 2025) EndedAt: 2025-10-31 17:22:53 -0400 (Fri, 31 Oct 2025) EllapsedTime: 31.0 seconds RetCode: 0 Status: OK PackageFile: decontam_1.31.0.tar.gz PackageFileSize: 702.4 KiB