Package: decontam Version: 1.31.0 Command: /Library/Frameworks/R.framework/Resources/bin/R CMD INSTALL decontam StartedAt: 2025-11-21 15:04:54 -0500 (Fri, 21 Nov 2025) EndedAt: 2025-11-21 15:05:04 -0500 (Fri, 21 Nov 2025) EllapsedTime: 9.9 seconds RetCode: 0 Status: OK