Package: decontam Version: 1.31.0 Command: /Library/Frameworks/R.framework/Resources/bin/R CMD build --keep-empty-dirs --no-resave-data decontam StartedAt: 2025-11-21 16:05:31 -0500 (Fri, 21 Nov 2025) EndedAt: 2025-11-21 16:05:43 -0500 (Fri, 21 Nov 2025) EllapsedTime: 12.1 seconds RetCode: 0 Status: OK PackageFile: decontam_1.31.0.tar.gz PackageFileSize: 724.2 KiB