Package: decontam Version: 1.31.0 Command: rm -rf decontam.buildbin-libdir && mkdir decontam.buildbin-libdir && /Users/biocbuild/BBS/utils/build-universal.sh decontam_1.31.0.tar.gz /Library/Frameworks/R.framework/Resources/bin/R decontam.buildbin-libdir StartedAt: 2025-11-21 23:29:10 -0500 (Fri, 21 Nov 2025) EndedAt: 2025-11-21 23:29:13 -0500 (Fri, 21 Nov 2025) EllapsedTime: 3.1 seconds RetCode: 0 Status: OK PackageFile: decontam_1.31.0.tgz PackageFileSize: 761.1 KiB