Package: decontX Version: 1.9.0 Command: /home/biocbuild/bbs-3.23-bioc/R/bin/R CMD INSTALL decontX StartedAt: 2025-11-05 16:02:38 -0500 (Wed, 05 Nov 2025) EndedAt: 2025-11-05 16:05:26 -0500 (Wed, 05 Nov 2025) EllapsedTime: 168.7 seconds RetCode: 0 Status: OK