Package: decontX Version: 1.7.0 Command: /Library/Frameworks/R.framework/Resources/bin/R CMD build --keep-empty-dirs --no-resave-data decontX StartedAt: 2025-10-14 16:46:15 -0400 (Tue, 14 Oct 2025) EndedAt: 2025-10-14 16:57:40 -0400 (Tue, 14 Oct 2025) EllapsedTime: 684.5 seconds RetCode: 0 Status: OK PackageFile: decontX_1.7.0.tar.gz PackageFileSize: 1.994 MiB