Package: decontX Version: 1.9.0 Maintainer: Joshua Campbell MaintainerEmail: camp at bu.edu git_url: https://git.bioconductor.org/packages/decontX git_branch: devel git_last_commit: 0f7be1c git_last_commit_date: 2025-10-29 11:26:26 -0500 (Wed, 29 Oct 2025)