Package: decompTumor2Sig Version: 2.25.1 Command: /home/biocbuild/R/R/bin/R CMD INSTALL decompTumor2Sig StartedAt: 2025-10-23 21:24:38 -0000 (Thu, 23 Oct 2025) EndedAt: 2025-10-23 21:25:35 -0000 (Thu, 23 Oct 2025) EllapsedTime: 56.9 seconds RetCode: 0 Status: OK