Package: decompTumor2Sig Version: 2.25.1 Command: /home/biocbuild/R/R/bin/R CMD build --keep-empty-dirs --no-resave-data decompTumor2Sig StartedAt: 2025-10-20 23:11:38 -0000 (Mon, 20 Oct 2025) EndedAt: 2025-10-20 23:18:31 -0000 (Mon, 20 Oct 2025) EllapsedTime: 413.1 seconds RetCode: 0 Status: OK PackageFile: decompTumor2Sig_2.25.1.tar.gz PackageFileSize: 2.453 MiB