Package: decompTumor2Sig Version: 2.27.0 Command: /home/biocbuild/bbs-3.23-bioc/R/bin/R CMD INSTALL decompTumor2Sig StartedAt: 2025-11-05 16:05:38 -0500 (Wed, 05 Nov 2025) EndedAt: 2025-11-05 16:06:22 -0500 (Wed, 05 Nov 2025) EllapsedTime: 44.6 seconds RetCode: 0 Status: OK