Package: decompTumor2Sig Version: 2.27.0 Command: /home/biocbuild/bbs-3.23-bioc/R/bin/R CMD check --install=check:decompTumor2Sig.install-out.txt --library=/home/biocbuild/bbs-3.23-bioc/R/site-library --timings decompTumor2Sig_2.27.0.tar.gz StartedAt: 2025-11-14 22:41:19 -0500 (Fri, 14 Nov 2025) EndedAt: 2025-11-14 22:52:57 -0500 (Fri, 14 Nov 2025) EllapsedTime: 697.8 seconds RetCode: 0 Status: OK CheckDir: decompTumor2Sig.Rcheck Warnings: 0