Package: decompTumor2Sig Version: 2.27.0 Command: /home/biocbuild/bbs-3.23-bioc/R/bin/R CMD build --keep-empty-dirs --no-resave-data decompTumor2Sig StartedAt: 2025-11-05 17:13:58 -0500 (Wed, 05 Nov 2025) EndedAt: 2025-11-05 17:18:42 -0500 (Wed, 05 Nov 2025) EllapsedTime: 284.3 seconds RetCode: 0 Status: OK PackageFile: decompTumor2Sig_2.27.0.tar.gz PackageFileSize: 2.751 MiB