Package: debrowser Version: 1.37.0 Command: /home/biocbuild/R/R/bin/R CMD INSTALL debrowser StartedAt: 2025-10-20 21:14:30 -0000 (Mon, 20 Oct 2025) EndedAt: 2025-10-20 21:15:32 -0000 (Mon, 20 Oct 2025) EllapsedTime: 61.7 seconds RetCode: 0 Status: OK