Package: debrowser Version: 1.37.0 Command: /home/biocbuild/R/R/bin/R CMD build --keep-empty-dirs --no-resave-data debrowser StartedAt: 2025-10-20 23:11:31 -0000 (Mon, 20 Oct 2025) EndedAt: 2025-10-20 23:15:09 -0000 (Mon, 20 Oct 2025) EllapsedTime: 218.1 seconds RetCode: 0 Status: OK PackageFile: debrowser_1.37.0.tar.gz PackageFileSize: 18.24 MiB