Package: debrowser Version: 1.37.0 Command: /home/biocbuild/bbs-3.22-bioc/R/bin/R CMD check --install=check:debrowser.install-out.txt --library=/home/biocbuild/bbs-3.22-bioc/R/site-library --timings debrowser_1.37.0.tar.gz StartedAt: 2025-10-12 22:58:52 -0400 (Sun, 12 Oct 2025) EndedAt: 2025-10-12 23:06:24 -0400 (Sun, 12 Oct 2025) EllapsedTime: 451.5 seconds RetCode: 0 Status: OK CheckDir: debrowser.Rcheck Warnings: 0