Package: debrowser Version: 1.39.0 Command: /home/biocbuild/bbs-3.23-bioc/R/bin/R CMD INSTALL debrowser StartedAt: 2025-11-04 15:50:03 -0500 (Tue, 04 Nov 2025) EndedAt: 2025-11-04 15:50:49 -0500 (Tue, 04 Nov 2025) EllapsedTime: 46.1 seconds RetCode: 0 Status: OK