Package: debrowser Version: 1.39.0 Command: /home/biocbuild/bbs-3.23-bioc/R/bin/R CMD check --install=check:debrowser.install-out.txt --library=/home/biocbuild/bbs-3.23-bioc/R/site-library --timings debrowser_1.39.0.tar.gz StartedAt: 2025-11-23 22:41:46 -0500 (Sun, 23 Nov 2025) EndedAt: 2025-11-23 22:49:30 -0500 (Sun, 23 Nov 2025) EllapsedTime: 463.6 seconds RetCode: 0 Status: OK CheckDir: debrowser.Rcheck Warnings: 0