Package: debrowser Version: 1.39.0 Command: /home/biocbuild/bbs-3.23-bioc/R/bin/R CMD build --keep-empty-dirs --no-resave-data debrowser StartedAt: 2025-11-04 17:06:18 -0500 (Tue, 04 Nov 2025) EndedAt: 2025-11-04 17:07:42 -0500 (Tue, 04 Nov 2025) EllapsedTime: 84.1 seconds RetCode: 0 Status: OK PackageFile: debrowser_1.39.0.tar.gz PackageFileSize: 18.22 MiB