Package: debCAM Version: 1.29.0 Command: /home/biocbuild/bbs-3.23-bioc/R/bin/R CMD INSTALL debCAM StartedAt: 2025-11-05 16:13:41 -0500 (Wed, 05 Nov 2025) EndedAt: 2025-11-05 16:13:41 -0500 (Wed, 05 Nov 2025) EllapsedTime: 0.2 seconds RetCode: 1 Status: ERROR