############################################################################## ############################################################################## ### ### Running command: ### ### /home/biocbuild/bbs-3.23-bioc/R/bin/R CMD build --keep-empty-dirs --no-resave-data debCAM ### ############################################################################## ############################################################################## * checking for file ‘debCAM/DESCRIPTION’ ... OK * preparing ‘debCAM’: * checking DESCRIPTION meta-information ... OK * installing the package (it is needed to build vignettes) ----------------------------------- ERROR: dependency ‘DMwR2’ is not available for package ‘debCAM’ Perhaps try a variation of: install.packages('DMwR2') * removing ‘/tmp/RtmpY2UwbM/Rinstb6dcb5703400c/debCAM’ ----------------------------------- ERROR: package installation failed