Package: debCAM Version: 1.27.0 Command: /Library/Frameworks/R.framework/Resources/bin/R CMD INSTALL debCAM StartedAt: 2025-10-13 15:59:47 -0400 (Mon, 13 Oct 2025) EndedAt: 2025-10-13 15:59:47 -0400 (Mon, 13 Oct 2025) EllapsedTime: 0.3 seconds RetCode: 1 Status: ERROR