Package: debCAM Version: 1.27.0 Command: /Library/Frameworks/R.framework/Resources/bin/R CMD build --keep-empty-dirs --no-resave-data debCAM StartedAt: 2025-10-13 16:46:51 -0400 (Mon, 13 Oct 2025) EndedAt: 2025-10-13 16:46:53 -0400 (Mon, 13 Oct 2025) EllapsedTime: 2.3 seconds RetCode: 1 Status: ERROR PackageFile: None PackageFileSize: NA