Package: debCAM Version: 1.27.0 Maintainer: Lulu Chen MaintainerEmail: luluchen at vt.edu git_url: https://git.bioconductor.org/packages/debCAM git_branch: devel git_last_commit: 6b7802d git_last_commit_date: 2025-04-15 11:49:55 -0400 (Tue, 15 Apr 2025)