Package: dearseq Version: 1.21.0 Command: /home/biocbuild/bbs-3.22-bioc/R/bin/R CMD INSTALL dearseq StartedAt: 2025-10-07 15:09:40 -0400 (Tue, 07 Oct 2025) EndedAt: 2025-10-07 15:09:58 -0400 (Tue, 07 Oct 2025) EllapsedTime: 18.6 seconds RetCode: 0 Status: OK