Package: dearseq Version: 1.21.0 Command: /home/biocbuild/bbs-3.22-bioc/R/bin/R CMD build --keep-empty-dirs --no-resave-data --md5 dearseq StartedAt: 2025-10-07 17:13:36 -0400 (Tue, 07 Oct 2025) EndedAt: 2025-10-07 17:18:16 -0400 (Tue, 07 Oct 2025) EllapsedTime: 280.3 seconds RetCode: 0 Status: OK PackageFile: dearseq_1.21.0.tar.gz PackageFileSize: 742 KiB