Package: dearseq Version: 1.23.0 Command: /home/biocbuild/bbs-3.23-bioc/R/bin/R CMD build --keep-empty-dirs --no-resave-data dearseq StartedAt: 2025-11-20 17:11:18 -0500 (Thu, 20 Nov 2025) EndedAt: 2025-11-20 17:16:00 -0500 (Thu, 20 Nov 2025) EllapsedTime: 282.2 seconds RetCode: 0 Status: OK PackageFile: dearseq_1.23.0.tar.gz PackageFileSize: 740.3 KiB