Package: dearseq Version: 1.23.0 Command: /Library/Frameworks/R.framework/Resources/bin/R CMD INSTALL dearseq StartedAt: 2025-11-20 15:16:55 -0500 (Thu, 20 Nov 2025) EndedAt: 2025-11-20 15:17:30 -0500 (Thu, 20 Nov 2025) EllapsedTime: 35.0 seconds RetCode: 0 Status: OK