Package: dearseq Version: 1.23.0 Command: /Library/Frameworks/R.framework/Resources/bin/R CMD build --keep-empty-dirs --no-resave-data dearseq StartedAt: 2025-11-20 16:42:40 -0500 (Thu, 20 Nov 2025) EndedAt: 2025-11-20 16:51:06 -0500 (Thu, 20 Nov 2025) EllapsedTime: 506.6 seconds RetCode: 0 Status: OK PackageFile: dearseq_1.23.0.tar.gz PackageFileSize: 764.8 KiB