Package: dearseq Version: 1.23.0 Command: rm -rf dearseq.buildbin-libdir && mkdir dearseq.buildbin-libdir && /Users/biocbuild/BBS/utils/build-universal.sh dearseq_1.23.0.tar.gz /Library/Frameworks/R.framework/Resources/bin/R dearseq.buildbin-libdir StartedAt: 2025-11-21 01:29:53 -0500 (Fri, 21 Nov 2025) EndedAt: 2025-11-21 01:30:10 -0500 (Fri, 21 Nov 2025) EllapsedTime: 17.4 seconds RetCode: 0 Status: OK PackageFile: dearseq_1.23.0.tgz PackageFileSize: 900.1 KiB