Package: dearseq Version: 1.21.0 Command: /Library/Frameworks/R.framework/Resources/bin/R CMD INSTALL dearseq StartedAt: 2025-10-27 15:05:31 -0400 (Mon, 27 Oct 2025) EndedAt: 2025-10-27 15:05:43 -0400 (Mon, 27 Oct 2025) EllapsedTime: 11.9 seconds RetCode: 0 Status: OK