Package: ddPCRclust Version: 1.31.0 Command: /home/biocbuild/bbs-3.23-bioc/R/bin/R CMD INSTALL ddPCRclust StartedAt: 2025-11-03 15:13:51 -0500 (Mon, 03 Nov 2025) EndedAt: 2025-11-03 15:14:04 -0500 (Mon, 03 Nov 2025) EllapsedTime: 12.1 seconds RetCode: 0 Status: OK