Package: ddPCRclust Version: 1.31.0 Command: /home/biocbuild/bbs-3.23-bioc/R/bin/R CMD check --install=check:ddPCRclust.install-out.txt --library=/home/biocbuild/bbs-3.23-bioc/R/site-library --timings ddPCRclust_1.31.0.tar.gz StartedAt: 2025-11-02 22:24:47 -0500 (Sun, 02 Nov 2025) EndedAt: 2025-11-02 22:27:39 -0500 (Sun, 02 Nov 2025) EllapsedTime: 172.1 seconds RetCode: 0 Status: OK CheckDir: ddPCRclust.Rcheck Warnings: 0