Package: ddPCRclust Version: 1.31.0 Command: /home/biocbuild/bbs-3.23-bioc/R/bin/R CMD build --keep-empty-dirs --no-resave-data ddPCRclust StartedAt: 2025-11-02 17:10:25 -0500 (Sun, 02 Nov 2025) EndedAt: 2025-11-02 17:10:56 -0500 (Sun, 02 Nov 2025) EllapsedTime: 31.0 seconds RetCode: 0 Status: OK PackageFile: ddPCRclust_1.31.0.tar.gz PackageFileSize: 1.192 MiB