Package: ddCt Version: 1.67.0 Command: /home/biocbuild/bbs-3.23-bioc/R/bin/R CMD INSTALL ddCt StartedAt: 2025-11-02 15:21:26 -0500 (Sun, 02 Nov 2025) EndedAt: 2025-11-02 15:21:31 -0500 (Sun, 02 Nov 2025) EllapsedTime: 5.4 seconds RetCode: 0 Status: OK