Package: ddCt Version: 1.67.0 Command: /home/biocbuild/bbs-3.23-bioc/R/bin/R CMD build --keep-empty-dirs --no-resave-data ddCt StartedAt: 2025-11-02 17:10:19 -0500 (Sun, 02 Nov 2025) EndedAt: 2025-11-02 17:10:34 -0500 (Sun, 02 Nov 2025) EllapsedTime: 15.0 seconds RetCode: 0 Status: OK PackageFile: ddCt_1.67.0.tar.gz PackageFileSize: 783.5 KiB