Package: ddCt Version: 1.65.0 Command: /Library/Frameworks/R.framework/Resources/bin/R CMD INSTALL ddCt StartedAt: 2025-10-07 15:25:57 -0400 (Tue, 07 Oct 2025) EndedAt: 2025-10-07 15:26:00 -0400 (Tue, 07 Oct 2025) EllapsedTime: 2.3 seconds RetCode: 0 Status: OK