Package: ddCt Version: 1.65.0 Command: /Library/Frameworks/R.framework/Resources/bin/R CMD build --keep-empty-dirs --no-resave-data ddCt StartedAt: 2025-10-07 16:06:59 -0400 (Tue, 07 Oct 2025) EndedAt: 2025-10-07 16:07:08 -0400 (Tue, 07 Oct 2025) EllapsedTime: 9.1 seconds RetCode: 0 Status: OK PackageFile: ddCt_1.65.0.tar.gz PackageFileSize: 781.2 KiB