Package: ddCt Version: 1.65.0 Command: rm -rf ddCt.buildbin-libdir && mkdir ddCt.buildbin-libdir && /Users/biocbuild/BBS/utils/build-universal.sh ddCt_1.65.0.tar.gz /Library/Frameworks/R.framework/Resources/bin/R ddCt.buildbin-libdir StartedAt: 2025-10-07 22:42:26 -0400 (Tue, 07 Oct 2025) EndedAt: 2025-10-07 22:42:29 -0400 (Tue, 07 Oct 2025) EllapsedTime: 3.1 seconds RetCode: 0 Status: OK PackageFile: ddCt_1.65.0.tgz PackageFileSize: 1.011 MiB