Package: dcanr Version: 1.27.0 Command: /home/biocbuild/bbs-3.23-bioc/R/bin/R CMD INSTALL dcanr StartedAt: 2025-11-07 15:07:03 -0500 (Fri, 07 Nov 2025) EndedAt: 2025-11-07 15:07:40 -0500 (Fri, 07 Nov 2025) EllapsedTime: 36.9 seconds RetCode: 0 Status: OK