Package: dcanr Version: 1.27.0 Command: /home/biocbuild/bbs-3.23-bioc/R/bin/R CMD build --keep-empty-dirs --no-resave-data dcanr StartedAt: 2025-11-07 17:06:51 -0500 (Fri, 07 Nov 2025) EndedAt: 2025-11-07 17:07:38 -0500 (Fri, 07 Nov 2025) EllapsedTime: 47.1 seconds RetCode: 0 Status: OK PackageFile: dcanr_1.27.0.tar.gz PackageFileSize: 1.707 MiB