Package: dcanr Version: 1.25.0 Command: /Library/Frameworks/R.framework/Resources/bin/R CMD INSTALL dcanr StartedAt: 2025-10-07 15:09:13 -0400 (Tue, 07 Oct 2025) EndedAt: 2025-10-07 15:10:06 -0400 (Tue, 07 Oct 2025) EllapsedTime: 53.4 seconds RetCode: 0 Status: OK