Package: dcanr Version: 1.25.0 Command: /Library/Frameworks/R.framework/Resources/bin/R CMD build --keep-empty-dirs --no-resave-data dcanr StartedAt: 2025-10-07 16:40:38 -0400 (Tue, 07 Oct 2025) EndedAt: 2025-10-07 16:41:34 -0400 (Tue, 07 Oct 2025) EllapsedTime: 56.4 seconds RetCode: 0 Status: OK PackageFile: dcanr_1.25.0.tar.gz PackageFileSize: 1.745 MiB