Package: dcGSA Version: 1.37.0 Command: /home/biocbuild/R/R/bin/R CMD build --keep-empty-dirs --no-resave-data dcGSA StartedAt: 2025-10-20 23:10:53 -0000 (Mon, 20 Oct 2025) EndedAt: 2025-10-20 23:10:54 -0000 (Mon, 20 Oct 2025) EllapsedTime: 1.0 seconds RetCode: 0 Status: OK PackageFile: dcGSA_1.37.0.tar.gz PackageFileSize: 37.42 KiB