Package: dar Version: 1.7.0 Command: /home/biocbuild/bbs-3.23-bioc/R/bin/R CMD build --keep-empty-dirs --no-resave-data dar StartedAt: 2025-11-20 17:10:24 -0500 (Thu, 20 Nov 2025) EndedAt: 2025-11-20 17:15:03 -0500 (Thu, 20 Nov 2025) EllapsedTime: 279.3 seconds RetCode: 0 Status: OK PackageFile: dar_1.7.0.tar.gz PackageFileSize: 3.305 MiB