Package: dar Version: 1.5.2 Command: /Library/Frameworks/R.framework/Resources/bin/R CMD INSTALL dar StartedAt: 2025-10-19 15:30:34 -0400 (Sun, 19 Oct 2025) EndedAt: 2025-10-19 15:30:43 -0400 (Sun, 19 Oct 2025) EllapsedTime: 9.4 seconds RetCode: 0 Status: OK