Package: dar Version: 1.5.2 Command: /Library/Frameworks/R.framework/Resources/bin/R CMD build --keep-empty-dirs --no-resave-data dar StartedAt: 2025-10-19 16:07:09 -0400 (Sun, 19 Oct 2025) EndedAt: 2025-10-19 16:08:51 -0400 (Sun, 19 Oct 2025) EllapsedTime: 102.1 seconds RetCode: 0 Status: OK PackageFile: dar_1.5.2.tar.gz PackageFileSize: 3.254 MiB