Package: dandelionR Version: 1.1.4 Command: /home/biocbuild/R/R/bin/R CMD INSTALL dandelionR StartedAt: 2025-10-13 21:47:34 -0000 (Mon, 13 Oct 2025) EndedAt: 2025-10-13 21:48:24 -0000 (Mon, 13 Oct 2025) EllapsedTime: 50.1 seconds RetCode: 0 Status: OK