Package: dandelionR Version: 1.1.4 Command: /home/biocbuild/R/R/bin/R CMD build --keep-empty-dirs --no-resave-data dandelionR StartedAt: 2025-10-13 23:37:06 -0000 (Mon, 13 Oct 2025) EndedAt: 2025-10-13 23:40:47 -0000 (Mon, 13 Oct 2025) EllapsedTime: 221.1 seconds RetCode: 0 Status: OK PackageFile: dandelionR_1.1.4.tar.gz PackageFileSize: 7.302 MiB