Package: dandelionR Version: 1.1.4 Command: chmod a+r dandelionR -R && F:\biocbuild\bbs-3.22-bioc\R\bin\R.exe CMD build --keep-empty-dirs --no-resave-data dandelionR StartedAt: 2025-08-14 19:29:53 -0400 (Thu, 14 Aug 2025) EndedAt: 2025-08-14 19:34:56 -0400 (Thu, 14 Aug 2025) EllapsedTime: 302.9 seconds RetCode: 0 Status: OK PackageFile: dandelionR_1.1.4.tar.gz PackageFileSize: 7.36 MiB